100.0000014901
0.0000000000
0.0000000000
-100.0000014901
9456050.1409061253
1512050.0225313008
