100.0000014901
0.0000000000
0.0000000000
-100.0000014901
8511850.1268364489
-1474150.0219665468
