PDS_VERSION_ID = PDS3
DD_VERSION_ID = PDSCAT1R100
LABEL_REVISION_NOTE = "2017-05-01, David P. Mayer (USGS), initial PDS3 label pointing to GeoTIFF;"
RECORD_TYPE = FIXED_LENGTH
RECORD_BYTES = 25386
TARGET_NAME = CHARON
^IMAGE = ("Charon_NewHorizons_Global_DEM_300m_Jul2017_16bit.tif", 51428 )
OBJECT = IMAGE
  LINES = 6347
  LINE_SAMPLES = 12693
  SAMPLE_BITS = 16
  SAMPLE_TYPE = LSB_INTEGER
  BANDS = 1
  BAND_STORAGE_TYPE = BAND_SEQUENTIAL
END_OBJECT = IMAGE
OBJECT = IMAGE_MAP_PROJECTION
  MAP_PROJECTION_TYPE = SIMPLE_CYLINDRICAL
  A_AXIS_RADIUS = 606.0
  B_AXIS_RADIUS = 606.0
  C_AXIS_RADIUS = 606.0
  FIRST_STANDARD_PARALLEL = N/A
  SECOND_STANDARD_PARALLEL = N/A
  POSITIVE_LONGITUDE_DIRECTION = EAST
  CENTER_LATITUDE = N/A
  CENTER_LONGITUDE = 0.0
  REFERENCE_LATITUDE = N/A
  REFERENCE_LONGITUDE = N/A
  LINE_FIRST_PIXEL = 1
  LINE_LAST_PIXEL = 6347
  SAMPLE_FIRST_PIXEL = 1
  SAMPLE_LAST_PIXEL = 12693
  MAP_PROJECTION_ROTATION = 0.0
  MAP_RESOLUTION = 35.255651
  MAP_SCALE = 300.0
  MAXIMUM_LATITUDE = 90.0
  MINIMUM_LATITUDE = -90.0
  EASTERNMOST_LONGITUDE = 180.0
  WESTERNMOST_LONGITUDE = -180.0
  LINE_PROJECTION_OFFSET = 3173.5
  SAMPLE_PROJECTION_OFFSET = 6346.0
  COORDINATE_SYSTEM_TYPE = "BODY-FIXED ROTATING"
  COORDINATE_SYSTEM_NAME = PLANETOGRAPHIC
  PROJECTION_LATITUDE_TYPE = PLANETOGRAPHIC
END_OBJECT = IMAGE_MAP_PROJECTION
END
