Object = IsisCube
  Object = Core
    StartByte = 88572
    Format = BandSequential
    Group = Dimensions
      Samples = 35953
      Lines = 10987
      Bands = 1
    End_Group
    Group = Pixels
      Type = Real
      ByteOrder = Lsb
      Base = 0.0
      Multiplier = 1.0
    End_Group
    ^Core = Titan_ISS_Globe_65Sto45N_450M_AvgMos.tif
  End_Object
  Group = BandBin
    FilterName = CL1/CB3
    OriginalBand = 1
    Center = 937.994000000000028
    Width = 9.49798999999999971
  End_Group
  Group = Mapping
    ProjectionName = Equirectangular
    CenterLongitude = 180.0
    TargetName = Titan
    EquatorialRadius = 2575000.0
    PolarRadius = 2575000.0
    LatitudeType = Planetocentric
    LongitudeDirection = PositiveWest
    LongitudeDomain = 360
    MinimumLatitude = -65.0
    MaximumLatitude = 45.0
    MinimumLongitude = 0.0
    MaximumLongitude = 360.0
    UpperLeftCornerX = -8089650.0
    UpperLeftCornerY = 2022750.0
    PixelResolution = 450.0
    Scale = 99.871617999999998
    CenterLatitude = -0.436632999999999993
    CenterLatitudeRadius = 2575000.0
  End_Group
End_Object
Object = Label
  Bytes = 1530
End_Object
Object = History
  Name = IsisCube
  StartByte = 1
  Bytes = 24881
  ^History = Titan_ISS_Globe_65Sto45N_450M_AvgMos.History.IsisCube
End_Object
End
