PDS_VERSION_ID = PDS3
DD_VERSION_ID = PDSCAT1R100
LABEL_REVISION_NOTE = "2017-05-01, David P. Mayer (USGS), initial PDS3 label pointing to GeoTIFF;"
RECORD_TYPE = FIXED_LENGTH
RECORD_BYTES = 5772
TARGET_NAME = ENCELADUS
^IMAGE = ("Enceladus_Voyager_airbrush_sinu_273m.tif", 19473 )
OBJECT = IMAGE
  LINES = 2357
  LINE_SAMPLES = 5772
  SAMPLE_BITS = 8
  SAMPLE_TYPE = LSB_UNSIGNED_INTEGER
  BANDS = 1
  BAND_STORAGE_TYPE = BAND_SEQUENTIAL
END_OBJECT = IMAGE
OBJECT = IMAGE_MAP_PROJECTION
  MAP_PROJECTION_TYPE = SINUSOIDAL
  A_AXIS_RADIUS = 251.0
  B_AXIS_RADIUS = 251.0
  C_AXIS_RADIUS = 251.0
  FIRST_STANDARD_PARALLEL = N/A
  SECOND_STANDARD_PARALLEL = N/A
  POSITIVE_LONGITUDE_DIRECTION = WEST
  CENTER_LATITUDE = N/A
  CENTER_LONGITUDE = -90.0
  REFERENCE_LATITUDE = N/A
  REFERENCE_LONGITUDE = N/A
  LINE_FIRST_PIXEL = 1
  LINE_LAST_PIXEL = 2357
  SAMPLE_FIRST_PIXEL = 1
  SAMPLE_LAST_PIXEL = 5772
  MAP_PROJECTION_ROTATION = 0.0
  MAP_RESOLUTION = 16.032
  MAP_SCALE = 273.252022
  MAXIMUM_LATITUDE = 90.0
  MINIMUM_LATITUDE = -57.0
  EASTERNMOST_LONGITUDE = -180.0
  WESTERNMOST_LONGITUDE = 180.0
  LINE_PROJECTION_OFFSET = 1442.3858019100037
  SAMPLE_PROJECTION_OFFSET = -4329.157405733671
  COORDINATE_SYSTEM_TYPE = "BODY-FIXED ROTATING"
  COORDINATE_SYSTEM_NAME = PLANETOCENTRIC
  PROJECTION_LATITUDE_TYPE = PLANETOCENTRIC
END_OBJECT = IMAGE_MAP_PROJECTION
END
