PDS_VERSION_ID = PDS3
DD_VERSION_ID = PDSCAT1R100
LABEL_REVISION_NOTE = "2017-05-01, David P. Mayer (USGS), initial PDS3 label pointing to GeoTIFF;"
RECORD_TYPE = FIXED_LENGTH
DATA_SET_ID = Vesta_Dawn_FC_HAMO_Mosaic_Global_74ppd
PRODUCER_ID = DLR
PRODUCER_FULL_NAME = "GERMAN AEROSPACE CENTER (DLR), INSTITUTE OF PLANETARY RESEARCH"
PRODUCER_INSTITUTION_NAME = "GERMAN AEROSPACE CENTER (DLR)"
PRODUCT_ID = 20131210
INSTRUMENT_HOST_NAME = DAWN
INSTRUMENT_NAME = "FRAMING CAMERA"
INSTRUMENT_ID = FC
RECORD_BYTES = 26704
TARGET_NAME = VESTA
^IMAGE = ("Vesta_Dawn_FC_HAMO_Mosaic_Global_74ppd.tif", 107456 )
OBJECT = IMAGE
  LINES = 13352
  LINE_SAMPLES = 26704
  SAMPLE_BITS = 8
  SAMPLE_TYPE = LSB_UNSIGNED_INTEGER
  BANDS = 1
  BAND_STORAGE_TYPE = BAND_SEQUENTIAL
END_OBJECT = IMAGE
OBJECT = IMAGE_MAP_PROJECTION
  MAP_PROJECTION_TYPE = SIMPLE_CYLINDRICAL
  A_AXIS_RADIUS = 255.0
  B_AXIS_RADIUS = 255.0
  C_AXIS_RADIUS = 255.0
  FIRST_STANDARD_PARALLEL = N/A
  SECOND_STANDARD_PARALLEL = N/A
  POSITIVE_LONGITUDE_DIRECTION = EAST
  CENTER_LATITUDE = 0.0
  CENTER_LONGITUDE = 0.0
  REFERENCE_LATITUDE = N/A
  REFERENCE_LONGITUDE = N/A
  LINE_FIRST_PIXEL = 1
  LINE_LAST_PIXEL = 13352
  SAMPLE_FIRST_PIXEL = 1
  SAMPLE_LAST_PIXEL = 26704
  MAP_PROJECTION_ROTATION = 0.0
  MAP_RESOLUTION = 74.1778
  MAP_SCALE = 59.998961
  MAXIMUM_LATITUDE = 90.0
  MINIMUM_LATITUDE = -90.0
  EASTERNMOST_LONGITUDE = 180.0
  WESTERNMOST_LONGITUDE = -180.0
  LINE_PROJECTION_OFFSET = 6675.499994949912
  SAMPLE_PROJECTION_OFFSET = 13351.499989883157
  COORDINATE_SYSTEM_TYPE = "BODY-FIXED ROTATING"
  COORDINATE_SYSTEM_NAME = PLANETOCENTRIC
  PROJECTION_LATITUDE_TYPE = PLANETOCENTRIC
END_OBJECT = IMAGE_MAP_PROJECTION
END
