Object = IsisCube
  Object = Core
    StartByte = 48640
    ^Core = ctx_abs_align_iau_deltaradius_mosaic.tif
    Format = BandSequential
    Group = Dimensions
      Samples = 8000
      Lines = 8000
      Bands = 1
    End_Group
    Group = Pixels
      Type = Real
      ByteOrder = Lsb
      Base = 0.0
      Multiplier = 1.0
    End_Group
  End_Object
  Group = Mapping
    TargetName = Mars
    EquatorialRadius = 3396190.0
    PolarRadius = 3396190.0
    LatitudeType = Planetocentric
    LongitudeDirection = PositiveEast
    LongitudeDomain = 180
    MinimumLatitude = -85.2310275341213952
    MinimumLongitude = -135.0
    MaximumLatitude = -85.2310275341213952
    MaximumLongitude = 135.0
    ProjectionName = PolarStereographic
    CenterLongitude = 0.0
    CenterLatitude = -90.0
    scaleFactor = 1.0
    UpperLeftCornerX = -200000.0
    UpperLeftCornerY = 200000.0
    PixelResolution = 50.0
    Scale = 1185.49395046612426
  End_Group
End_Object
Object = Label
  Bytes = 1171
End_Object
End
