PDS_VERSION_ID = PDS3
DD_VERSION_ID = PDSCAT1R100
LABEL_REVISION_NOTE = "2017-05-01, David P. Mayer (USGS), initial PDS3 label pointing to GeoTIFF;"
RECORD_TYPE = FIXED_LENGTH
DATA_SET_ID = Phobos_ME_SRC_Mosaic_Global_16ppd
PRODUCER_ID = ME_HRSC_TEAM
PRODUCER_FULL_NAME = "KONRAD WILLNER"
PRODUCER_INSTITUTION_NAME = "GERMAN AEROSPACE CENTER (DLR), INSTITUTE OF PLANETARY RESEARCH"
PRODUCT_ID = src_map_phobos
INSTRUMENT_HOST_NAME = "MARS EXPRESS"
INSTRUMENT_NAME = "HIGH RESOLUTION STEREO CAMERA"
INSTRUMENT_ID = HRSC
RECORD_BYTES = 5760
TARGET_NAME = PHOBOS
^IMAGE = ("Phobos_ME_SRC_Mosaic_Global_16ppd.tif", 23684 )
OBJECT = IMAGE
  LINES = 2880
  LINE_SAMPLES = 5760
  SAMPLE_BITS = 8
  SAMPLE_TYPE = LSB_UNSIGNED_INTEGER
  BANDS = 1
  BAND_STORAGE_TYPE = BAND_SEQUENTIAL
END_OBJECT = IMAGE
OBJECT = IMAGE_MAP_PROJECTION
  MAP_PROJECTION_TYPE = SIMPLE_CYLINDRICAL
  A_AXIS_RADIUS = 11.1
  B_AXIS_RADIUS = 11.1
  C_AXIS_RADIUS = 11.1
  FIRST_STANDARD_PARALLEL = N/A
  SECOND_STANDARD_PARALLEL = N/A
  POSITIVE_LONGITUDE_DIRECTION = EAST
  CENTER_LATITUDE = 0.0
  CENTER_LONGITUDE = 0.0
  REFERENCE_LATITUDE = N/A
  REFERENCE_LONGITUDE = N/A
  LINE_FIRST_PIXEL = 1
  LINE_LAST_PIXEL = 2880
  SAMPLE_FIRST_PIXEL = 1
  SAMPLE_LAST_PIXEL = 5760
  MAP_PROJECTION_ROTATION = 0.0
  MAP_RESOLUTION = 16.0
  MAP_SCALE = 12.108222
  MAXIMUM_LATITUDE = 90.0
  MINIMUM_LATITUDE = -90.0
  EASTERNMOST_LONGITUDE = 180.0
  WESTERNMOST_LONGITUDE = -180.0
  LINE_PROJECTION_OFFSET = 1439.4999625874057
  SAMPLE_PROJECTION_OFFSET = 2879.4999252574
  COORDINATE_SYSTEM_TYPE = "BODY-FIXED ROTATING"
  COORDINATE_SYSTEM_NAME = PLANETOCENTRIC
  PROJECTION_LATITUDE_TYPE = PLANETOCENTRIC
END_OBJECT = IMAGE_MAP_PROJECTION
END
