Object = IsisCube
  Object = Core
    StartByte = 1707926
    Format = BandSequential
    Group = Dimensions
      Samples = 213390
      Lines = 106696
      Bands = 1
    End_Group
    Group = Pixels
      Type = UnsignedByte
      ByteOrder = Lsb
      Base = 0.0
      Multiplier = 1.0
    End_Group
    ^Core = Mars_MO_THEMIS-IR-Day_mosaic_global_100m_v12.tif
  End_Object
  Group = Archive
    DataSetId = "THEMIS IR Day Mosaic"
    ProducerInstitutionName = "Arizona State University"
    ProducerId = ASU
    ProducerFullName = "Mars Space Flight Facility"
    ProductId = thm_day_ir_v12
    ProductVersionId = 12
    InstrumentHostName = "Mars Odyssey"
    InstrumentName = "Thermal Emission Imaging System"
    InstrumentId = THEMIS
    TargetName = Mars
  End_Group
  Group = Mapping
    ProjectionName = SimpleCylindrical
    CenterLongitude = 180.0
    TargetName = Mars
    EquatorialRadius = 3396190.0
    PolarRadius = 3376200.0
    LatitudeType = Planetocentric
    LongitudeDirection = PositiveEast
    LongitudeDomain = 360
    MinimumLatitude = -90.0
    MaximumLatitude = 90.0
    MinimumLongitude = 0.0
    MaximumLongitude = 360.0
    UpperLeftCornerX = -10669500.0
    UpperLeftCornerY = 5334800.0
    PixelResolution = 100.0
    Scale = 592.746999999999957
    CenterLatitude = 0.0
  End_Group
End_Object
Object = Label
  Bytes = 1805
End_Object
Object = History
  Name = IsisCube
  StartByte = 1
  Bytes = 930
  ^History = Mars_MO_THEMIS-IR-Day_mosaic_global_100m_v12.History.IsisCube
End_Object
End
