Object = IsisCube
  Object = Core
    StartByte = 46608
    Format = BandSequential
    Group = Dimensions
      Samples = 11445
      Lines = 5723
      Bands = 1
    End_Group
    Group = Pixels
      Type = UnsignedByte
      ByteOrder = Lsb
      Base = -0.0029527570999999999
      Multiplier = 0.0059055141000000002
    End_Group
    ^Core = Io_GalileoSSI-Voyager_Global_Mosaic_1km.tif
  End_Object
  Group = Instrument
    TargetName = Io
  End_Group
  Group = BandBin
    Center = 1.0
    OriginalBand = 1
  End_Group
  Group = Mapping
    ProjectionName = SimpleCylindrical
    CenterLongitude = 0.0
    TargetName = Io
    EquatorialRadius = 1821460.0
    PolarRadius = 1821460.0
    LatitudeType = Planetocentric
    LongitudeDirection = PositiveWest
    LongitudeDomain = 180
    MinimumLatitude = -90.0
    MaximumLatitude = 90.0
    MinimumLongitude = -180.0
    MaximumLongitude = 180.0
    UpperLeftCornerX = -5723000.0
    UpperLeftCornerY = 2862000.0
    PixelResolution = 1000.0
    Scale = 31.7904739999999997
  End_Group
End_Object
Object = Label
  Bytes = 1646
End_Object
Object = History
  Name = IsisCube
  StartByte = 1
  Bytes = 1035
  ^History = Io_GalileoSSI-Voyager_Global_Mosaic_1km.History.IsisCube
End_Object
Object = OriginalLabel
  Name = IsisCube
  StartByte = 1
  Bytes = 4791
  ^OriginalLabel = Io_GalileoSSI-Voyager_Global_Mosaic_1km.OriginalLabel.IsisC- ube
End_Object
End
