Object = IsisCube
  Object = Core
    StartByte = 409226
    Format = BandSequential
    Group = Dimensions
      Samples = 21833
      Lines = 8491
      Bands = 6
    End_Group
    Group = Pixels
      Type = SignedWord
      ByteOrder = Lsb
      Base = 6.34221999362693945e-08
      Multiplier = 0.000135000040000000005
    End_Group
    ^Core = Lunar_Clementine_NIR_cal_500m.tif
  End_Object
  Group = BandBin
    FilterName = (A, B, C, D, E, F)
    Center = (1.10000000000000009, 1.25, 1.5, 2.0, 2.60000000000000009, 2.68999999999999995)
    Width = (0.0599999999999999978, 0.0599999999999999978, 0.0599999999999999978, 0.0599999999999999978, 0.0599999999999999978, 0.119999999999999996)
    OriginalBand = (2, 3, 4, 5, 6, 7)
  End_Group
  Group = Mapping
    ProjectionName = SimpleCylindrical
    CenterLongitude = 0.0
    TargetName = Moon
    EquatorialRadius = 1737400.0
    PolarRadius = 1737400.0
    LatitudeType = Planetocentric
    LongitudeDirection = PositiveEast
    LongitudeDomain = 180
    MinimumLatitude = -70.0
    MaximumLatitude = 70.0
    MinimumLongitude = -180
    MaximumLongitude = 180
    UpperLeftCornerX = -5458203.07634699997
    UpperLeftCornerY = 2122634.52969999984
    PixelResolution = 500.0
    Scale = 60.6467010000000002
  End_Group
End_Object
Object = Label
  Bytes = 1713
End_Object
Object = History
  Name = IsisCube
  StartByte = 1
  Bytes = 3121
  ^History = Lunar_Clementine_NIR_cal_500m.History.IsisCube
End_Object
End
