Object = IsisCube
  Object = Core
    StartByte = 8730
    Format = BandSequential
    Group = Dimensions
      Samples = 4040
      Lines = 2020
      Bands = 1
    End_Group
    Group = Pixels
      Type = UnsignedByte
      ByteOrder = Lsb
      Base = 0.0
      Multiplier = 1.0
    End_Group
    ^Core = Titan_ISS_P19658_Mosaic_Global_4km.tif
  End_Object
  Group = Archive
    DataSetId = Titan_ISS_P19658_Mosaic_Global_4km_clon180
    ProducerInstitutionName = "Jet Propulsion Laboratory"
    ProducerId = JPL
    ProducerFullName = "Jet Propulsion Laboratory, CALTECH"
    ProductId = PIA19658
    ProductVersionId = 1
    InstrumentHostName = Cassini
    InstrumentName = "Imaging Science Subsystem"
    InstrumentId = ISS
    TargetName = Titan
    MissionPhaseName = "through T100 flyby"
  End_Group
  Group = Mapping
    ProjectionName = Equirectangular
    CenterLongitude = 180.0
    TargetName = Titan
    EquatorialRadius = 2575000.0
    PolarRadius = 2575000.0
    LatitudeType = Planetocentric
    LongitudeDirection = PositiveWest
    LongitudeDomain = 360
    MinimumLatitude = -90.0
    MaximumLatitude = 90.0
    MinimumLongitude = 0.0
    MaximumLongitude = 0.0
    UpperLeftCornerX = -8089601.08299400005
    UpperLeftCornerY = 4044800.54149700003
    PixelResolution = 4004.75301099999979
    Scale = 11.2222000000000008
    CenterLatitude = 0.0
  End_Group
End_Object
Object = Label
  Bytes = 1866
End_Object
Object = History
  Name = IsisCube
  StartByte = 1
  Bytes = 900
  ^History = Titan_ISS_P19658_Mosaic_Global_4km.History.IsisCube
End_Object
End
