Object = IsisCube
  Object = Core
    StartByte = 738234
    Format = BandSequential
    Group = Dimensions
      Samples = 92160
      Lines = 46080
      Bands = 1
    End_Group
    Group = Pixels
      Type = SignedWord
      ByteOrder = Lsb
      Base = 0.0
      Multiplier = 0.5
    End_Group
    ^Core = Lunar_LRO_LOLA_Global_LDEM_118m_Mar2014.tif
  End_Object
  Group = Archive
    DataSetId = LRO-L-LOLA-4-GDR-V1.0
    ProducerInstitutionName = "GODDARD SPACE FLIGHT CENTER"
    ProducerId = LRO_LOLA_TEAM
    ProducerFullName = "DAVID E. SMITH"
    ProductId = LDEM_256_FLOAT_JULY2013
    ProductVersionId = v2.0
    InstrumentHostName = "LUNAR RECONNAISSANCE ORBITER"
    InstrumentName = "LUNAR ORBITER LASER ALTIMETER"
    InstrumentId = LOLA
    TargetName = MOON
    MissionPhaseName = "NOMINAL MISSION, SCIENCE MISSION"
  End_Group
  Group = Archive
    DataSetId = LRO_LOLA_DEM_Global_256ppd_v6
    ProducerInstitutionName = "Astrogeology Science Center"
    ProducerId = Astrogeology
    ProducerFullName = USGS
    ProductId = V6
    ProductVersionId = n/a
    InstrumentHostName = n/a
    InstrumentName = n/a
    InstrumentId = n/a
    TargetName = MOON
    MissionPhaseName = n/a
  End_Group
  Group = Mapping
    ProjectionName = SimpleCylindrical
    CenterLongitude = 0.0
    TargetName = Moon
    EquatorialRadius = 1737400.0
    PolarRadius = 1737400.0
    LatitudeType = Planetocentric
    LongitudeDirection = PositiveEast
    LongitudeDomain = 180
    MinimumLatitude = -90.0
    MaximumLatitude = 90.0
    MinimumLongitude = -180.0
    MaximumLongitude = 180.0
    UpperLeftCornerX = -5458203.07660800032
    UpperLeftCornerY = 2729101.53830400016
    PixelResolution = 118.450587999999996
    Scale = 256.0
  End_Group
End_Object
Object = Label
  Bytes = 2319
End_Object
Object = History
  Name = IsisCube
  StartByte = 1
  Bytes = 915
  ^History = Lunar_LRO_LOLA_Global_LDEM_118m_Mar2014.History.IsisCube
End_Object
End
