<?xml version="1.0" encoding="UTF-8"?>
<?xml-model href="https://pds.nasa.gov/datastandards/schema/released/pds/v1/PDS4_PDS_1G00.sch" schematypens="http://purl.oclc.org/dsdl/schematron"?>
<?xml-model href="https://pds.nasa.gov/pds4/disp/v1/PDS4_DISP_1G00_1500.sch" schematypens="http://purl.oclc.org/dsdl/schematron"?>
<?xml-model href="https://pds.nasa.gov/pds4/cart/v1/PDS4_CART_1G00_1950.sch" schematypens="http://purl.oclc.org/dsdl/schematron"?>
<Product_Observational xmlns="http://pds.nasa.gov/pds4/pds/v1" xmlns:pds="http://pds.nasa.gov/pds4/pds/v1" xmlns:disp="http://pds.nasa.gov/pds4/disp/v1" xmlns:cart="http://pds.nasa.gov/pds4/cart/v1" xmlns:xsi="http://www.w3.org/2001/XMLSchema-instance" xsi:schemaLocation="
    http://pds.nasa.gov/pds4/pds/v1 https://pds.nasa.gov/pds4/pds/v1/PDS4_PDS_1G00.xsd
    http://pds.nasa.gov/pds4/disp/v1 https://pds.nasa.gov/pds4/disp/v1/PDS4_DISP_1G00_1500.xsd
    http://pds.nasa.gov/pds4/cart/v1 https://pds.nasa.gov/pds4/cart/v1/PDS4_CART_1G00_1950.xsd">
  <Identification_Area>
    <logical_identifier>urn:nasa:pds:enceladus_cassini_iss_mosaic_schenk_2024:data:enceladus_cassini_dem_global_200m</logical_identifier>
    <version_id>1.0</version_id>
    <title>Enceladus Cassini ISS Glboal Digital Elevation Model 200m</title>
    <information_model_version>1.16.0.0</information_model_version>
    <product_class>Product_Observational</product_class>
    <Citation_Information>
      <author_list>Schenk, Paul M.; McKinnon, William B.</author_list>
      <publication_year>2024</publication_year>
      <doi>10.1016/j.icarus.2023.115827</doi>
      <description>New global topography of Enceladus: Hypsometry, basins, spherical harmonics, shell thickness, and true polar wander revisited</description>
    </Citation_Information>
  </Identification_Area>
  <Observation_Area>
    <Time_Coordinates>
      <start_date_time xsi:nil="true" nilReason="inapplicable" />
      <stop_date_time xsi:nil="true" nilReason="inapplicable" />
    </Time_Coordinates>
    <Primary_Result_Summary>
      <purpose>Science</purpose>
      <processing_level>Derived</processing_level>
      <description>New global Cassini ISS mosaic of Enceladus has been produced at 100-m ground distance (pixel) scales</description>
    </Primary_Result_Summary>
    <Investigation_Area>
      <name>New global image mosaic of Enceladus</name>
      <type>Individual Investigation</type>
      <Internal_Reference>
        <lidvid_reference>urn:nasa:pds:context:investigation:mission.mission.cassini-huygens::1.1</lidvid_reference>
        <reference_type>data_to_investigation</reference_type>
      </Internal_Reference>
    </Investigation_Area>
    <Observing_System>
      <name>Observing System for ISS data</name>
      <Observing_System_Component>
        <name>Cassini Orbiter</name>
        <type>Host</type>
        <description>The instrument host for this observing system was the Cassini Orbiter spacecraft</description>
        <Internal_Reference>
          <lidvid_reference>urn:nasa:pds:context:instrument_host:spacecraft.co::1.1</lidvid_reference>
          <reference_type>is_instrument_host</reference_type>
        </Internal_Reference>
      </Observing_System_Component>
      <Observing_System_Component>
        <name>Imaging Science Subsystem - Narrow Angle</name>
        <type>Instrument</type>
        <description>The instrument for this observing component was the Imaging Science Subsystem - Narrow Angle (ISSNA)</description>
        <Internal_Reference>
          <lidvid_reference>urn:nasa:pds:context:instrument:co.issna::1.0</lidvid_reference>
          <reference_type>is_instrument</reference_type>
        </Internal_Reference>
      </Observing_System_Component>
    </Observing_System>
    <Target_Identification>
      <name>Enceladus</name>
      <type>Satellite</type>
      <Internal_Reference>
        <lidvid_reference>urn:nasa:pds:context:target:satellite.saturn.enceladus::1.1</lidvid_reference>
        <reference_type>data_to_target</reference_type>
      </Internal_Reference>
    </Target_Identification>
    <Discipline_Area>
      <disp:Display_Settings>
        <Local_Internal_Reference>
          <local_identifier_reference>enceladus_cassini_dem_global_200m</local_identifier_reference>
          <local_reference_type>display_settings_to_array</local_reference_type>
        </Local_Internal_Reference>
        <disp:Display_Direction>
          <disp:horizontal_display_axis>Sample</disp:horizontal_display_axis>
          <disp:horizontal_display_direction>Left to Right</disp:horizontal_display_direction>
          <disp:vertical_display_axis>Line</disp:vertical_display_axis>
          <disp:vertical_display_direction>Top to Bottom</disp:vertical_display_direction>
        </disp:Display_Direction>
      </disp:Display_Settings>
      <cart:Cartography>
        <Local_Internal_Reference>
          <local_identifier_reference>enceladus_cassini_dem_global_200m</local_identifier_reference>
          <local_reference_type>cartography_parameters_to_image_object</local_reference_type>
        </Local_Internal_Reference>
        <cart:Spatial_Domain>
          <cart:Bounding_Coordinates>
            <cart:west_bounding_coordinate unit="deg">0</cart:west_bounding_coordinate>
            <cart:east_bounding_coordinate unit="deg">360</cart:east_bounding_coordinate>
            <cart:north_bounding_coordinate unit="deg">90.0</cart:north_bounding_coordinate>
            <cart:south_bounding_coordinate unit="deg">-90.0</cart:south_bounding_coordinate>
          </cart:Bounding_Coordinates>
        </cart:Spatial_Domain>
        <cart:Spatial_Reference_Information>
          <cart:Horizontal_Coordinate_System_Definition>
            <cart:Planar>
              <cart:Map_Projection>
                <cart:map_projection_name>Equirectangular</cart:map_projection_name>
                <cart:Equirectangular>
                  <cart:latitude_of_projection_origin unit="deg">0</cart:latitude_of_projection_origin>
                  <cart:standard_parallel_1 unit="deg">0</cart:standard_parallel_1>
                  <cart:longitude_of_central_meridian unit="deg">180</cart:longitude_of_central_meridian>
                </cart:Equirectangular>
              </cart:Map_Projection>
              <cart:Planar_Coordinate_Information>
                <cart:planar_coordinate_encoding_method>Coordinate Pair</cart:planar_coordinate_encoding_method>
                <cart:Coordinate_Representation>
                  <cart:pixel_resolution_x unit="m/pixel">200</cart:pixel_resolution_x>
                  <cart:pixel_resolution_y unit="m/pixel">200</cart:pixel_resolution_y>
                  <cart:pixel_scale_x unit="pixel/deg">22.3576677180473595</cart:pixel_scale_x>
                  <cart:pixel_scale_y unit="pixel/deg">22.3576677180473595</cart:pixel_scale_y>
                </cart:Coordinate_Representation>
              </cart:Planar_Coordinate_Information>
              <cart:Geo_Transformation>
                <cart:upperleft_corner_x unit="m">-805000</cart:upperleft_corner_x>
                <cart:upperleft_corner_y unit="m">402600</cart:upperleft_corner_y>
              </cart:Geo_Transformation>
            </cart:Planar>
            <cart:Geodetic_Model>
              <cart:latitude_type>Planetocentric</cart:latitude_type>
              <cart:spheroid_name>Enceladus</cart:spheroid_name>
              <cart:a_axis_radius unit="m">256200</cart:a_axis_radius>
              <cart:b_axis_radius unit="m">256200</cart:b_axis_radius>
              <cart:c_axis_radius unit="m">256200</cart:c_axis_radius>
              <cart:longitude_direction>Positive East</cart:longitude_direction>
            </cart:Geodetic_Model>
          </cart:Horizontal_Coordinate_System_Definition>
        </cart:Spatial_Reference_Information>
      </cart:Cartography>
    </Discipline_Area>
  </Observation_Area>
  <File_Area_Observational>
    <File>
      <file_name>Enceladus_Cassini_DEM_global_200m_schenk2024.tif</file_name>
      <!--Binary file pre-existing PDS4 label. This comment is used by GDAL to avoid deleting the binary file when the label is deleted. Keep it to preserve this behavior.-->
    </File>
    <Header>
      <offset unit="byte">0</offset>
      <object_length unit="byte">24823</object_length>
      <parsing_standard_id>TIFF 6.0</parsing_standard_id>
      <description>TIFF/GeoTIFF header. The TIFF/GeoTIFF format is used throughout the geospatial and science communities to share geographic image data. </description>
    </Header>
    <Array_3D_Image>
      <local_identifier>enceladus_cassini_dem_global_200m</local_identifier>
      <offset unit="byte">24823</offset>
      <axes>3</axes>
      <axis_index_order>Last Index Fastest</axis_index_order>
      <Element_Array>
        <data_type>IEEE754LSBSingle</data_type>
      </Element_Array>
      <Axis_Array>
        <axis_name>Line</axis_name>
        <elements>4025</elements>
        <sequence_number>1</sequence_number>
      </Axis_Array>
      <Axis_Array>
        <axis_name>Sample</axis_name>
        <elements>8049</elements>
        <sequence_number>2</sequence_number>
      </Axis_Array>
      <Axis_Array>
        <axis_name>Band</axis_name>
        <elements>1</elements>
        <sequence_number>3</sequence_number>
      </Axis_Array>
      <Special_Constants>
        <missing_constant>-3.40282265508890445e+38</missing_constant>
      </Special_Constants>
    </Array_3D_Image>
  </File_Area_Observational>
</Product_Observational>
