PDS_VERSION_ID = PDS3
DD_VERSION_ID = PDSCAT1R100
LABEL_REVISION_NOTE = "2017-05-01, David P. Mayer (USGS), initial PDS3 label pointing to GeoTIFF;"
RECORD_TYPE = FIXED_LENGTH
RECORD_BYTES = 85600
TARGET_NAME = MARS
^IMAGE = ("JEZ_hirise_soc_006_DTM_MOLAtopography_DeltaGeoid_1m_Eqc_latTs0_lon0_blend40.tif", 172610 )
OBJECT = IMAGE
  LINES = 21488
  LINE_SAMPLES = 21400
  SAMPLE_BITS = 32
  SAMPLE_TYPE = IEEE_REAL
  BANDS = 1
  BAND_STORAGE_TYPE = BAND_SEQUENTIAL
  SCALING_FACTOR = 1.0
  OFFSET = 0.0
END_OBJECT = IMAGE
OBJECT = IMAGE_MAP_PROJECTION
  MAP_PROJECTION_TYPE = EQUIRECTANGULAR
  A_AXIS_RADIUS = 3396.19
  B_AXIS_RADIUS = 3396.19
  C_AXIS_RADIUS = 3396.19
  FIRST_STANDARD_PARALLEL = N/A
  SECOND_STANDARD_PARALLEL = N/A
  POSITIVE_LONGITUDE_DIRECTION = EAST
  CENTER_LATITUDE = 0.0
  CENTER_LONGITUDE = 0.0
  REFERENCE_LATITUDE = N/A
  REFERENCE_LONGITUDE = N/A
  LINE_FIRST_PIXEL = 1
  LINE_LAST_PIXEL = 21488
  SAMPLE_FIRST_PIXEL = 1
  SAMPLE_LAST_PIXEL = 21400
  MAP_PROJECTION_ROTATION = 0.0
  MAP_RESOLUTION = 59274.69752330622
  MAP_SCALE = 1.0
  MAXIMUM_LATITUDE = 18.669315006877746
  MINIMUM_LATITUDE = 18.306799449686565
  EASTERNMOST_LONGITUDE = 77.58396402093508
  WESTERNMOST_LONGITUDE = 77.22293307697142
  LINE_PROJECTION_OFFSET = 1106617.5
  SAMPLE_PROJECTION_OFFSET = -4577366.5
  COORDINATE_SYSTEM_TYPE = "BODY-FIXED ROTATING"
  COORDINATE_SYSTEM_NAME = PLANETOCENTRIC
  PROJECTION_LATITUDE_TYPE = PLANETOCENTRIC
END_OBJECT = IMAGE_MAP_PROJECTION
END
