Object = IsisCube
  Object = Core
    StartByte = 9780
    ^Core = JEZ_ctx_B_soc_008_DTM_MOLAtopography_DeltaGeoid_20m_Eqc_latTs0- _lon0.tif
    Format = BandSequential
    Group = Dimensions
      Samples = 1596
      Lines = 1512
      Bands = 1
    End_Group
    Group = Pixels
      Type = Real
      ByteOrder = Lsb
      Base = 0.0
      Multiplier = 1.0
    End_Group
  End_Object
  Group = Mapping
    TargetName = Mars
    EquatorialRadius = 3396190.0
    PolarRadius = 3396190.0
    LatitudeType = Planetocentric
    LongitudeDirection = PositiveEast
    LongitudeDomain = 180
    MinimumLatitude = 18.2110273909633982
    MinimumLongitude = 77.1604654592236727
    MaximumLatitude = 18.7211944818728036
    MaximumLongitude = 77.6989751662947015
    ProjectionName = Equirectangular
    CenterLongitude = 0.0
    CenterLatitude = 0.0
    CenterLatitudeRadius = 3396190.0
    UpperLeftCornerX = 4573663.25085300021
    UpperLeftCornerY = 1109693.14018799993
    PixelResolution = 20.0
    Scale = 2963.73487616531111
  End_Group
End_Object
Object = Label
  Bytes = 1503
End_Object
Object = History
  Name = IsisCube
  StartByte = 1
  Bytes = 501
  ^History = JEZ_ctx_B_soc_008_DTM_MOLAtopography_DeltaGeoid_20m_Eqc_latTs0_l- on0.History.IsisCube
End_Object
End
