Object = IsisCube
  Object = Core
    Group = Dimensions
      Samples = 25134
      Lines = 12568
      Bands = 1
    End_Group
    Group = Pixels
      Type = UnsignedByte
      ByteOrder = Lsb
      Base = 0.0
      Multiplier = 1.0
    End_Group
    StartByte = 76050
    ^Core = Bennu_global_ShapeV20_GndControl_ROLOphase_ALBEDO_8bit_v6.tif
    Format = BandSequential
  End_Object
  Group = BandBin
    FilterName = PAN
    Center = 650
    Name = PAN
    Width = 1.0
  End_Group
  Group = Mapping
    TargetName = Bennu
    EquatorialRadius = 250.0
    PolarRadius = 250.0
    LatitudeType = Planetocentric
    LongitudeDirection = PositiveEast
    LongitudeDomain = 180
    MinimumLatitude = -90.0
    MinimumLongitude = 0.0
    MaximumLatitude = 90.0
    MaximumLongitude = 360.0
    ProjectionName = Equirectangular
    CenterLongitude = 180.0
    CenterLatitude = 0.0
    CenterLatitudeRadius = 250.0
    UpperLeftCornerX = -785.429513
    UpperLeftCornerY = 392.746000
    PixelResolution = 0.0624993644528250014
    Scale = 69.8138800000005233
  End_Group
End_Object
Object = Label
  Bytes = 1608
End_Object
Object = History
  Name = IsisCube
  StartByte = 1
  Bytes = 21897
  ^History = Bennu_global_ShapeV20_GndControl_ROLOphase_ALBEDO_8bit_v6.Histor- y.IsisCube
End_Object
End
