Object = IsisCube
  Object = Core
    StartByte = 23645
    Format = BandSequential
    Group = Dimensions
      Samples = 5760
      Lines = 2880
      Bands = 1
    End_Group
    Group = Pixels
      Type = UnsignedByte
      ByteOrder = Lsb
      Base = 0.0
      Multiplier = 1.0
    End_Group
    ^Core = Tethys_Voyager_airbrush_global_572m.tif
  End_Object
  Group = Instrument
    TargetName = Tethys
  End_Group
  Group = BandBin
    Center = 0.0
    OriginalBand = 1
  End_Group
  Group = Mapping
    ProjectionName = Sinusoidal
    CenterLongitude = 0.0
    TargetName = Tethys
    EquatorialRadius = 524000.0
    PolarRadius = 524000.0
    LatitudeType = Planetocentric
    LongitudeDirection = PositiveWest
    LongitudeDomain = 180
    MinimumLatitude = -90.0
    MaximumLatitude = 90.0
    MinimumLongitude = -180.0
    MaximumLongitude = 180.0
    UpperLeftCornerX = -1646194.55048099998
    UpperLeftCornerY = 823097.275240999996
    PixelResolution = 571.59532999999999
    Scale = 16.0
  End_Group
End_Object
Object = Label
  Bytes = 1591
End_Object
Object = History
  Name = IsisCube
  StartByte = 1
  Bytes = 1110
  ^History = Tethys_Voyager_airbrush_global_572m.History.IsisCube
End_Object
Object = OriginalLabel
  Name = IsisCube
  StartByte = 1
  Bytes = 2396
  ^OriginalLabel = Tethys_Voyager_airbrush_global_572m.OriginalLabel.IsisCube
End_Object
End
