Object = IsisCube
  Object = Core
    StartByte = 5630
    Format = BandSequential
    Group = Dimensions
      Samples = 1391
      Lines = 3118
      Bands = 1
    End_Group
    Group = Pixels
      Type = UnsignedByte
      ByteOrder = Lsb
      Base = 0.0
      Multiplier = 1.0
    End_Group
    ^Core = TvashtarPaterae_5713r_Ortho_185m.tif
  End_Object
  Group = Mapping
    TargetName = Io
    EquatorialRadius = 1821460.0
    PolarRadius = 1821460.0
    LatitudeType = Planetocentric
    LongitudeDirection = PositiveEast
    LongitudeDomain = 180
    MinimumLatitude = 55.6179184099395343
    MinimumLongitude = -128.594154970001057
    MaximumLatitude = 73.7626619100009862
    MaximumLongitude = -110.278518126250276
    ProjectionName = Equirectangular
    CenterLongitude = 0.0
    CenterLatitude = 63.7712000000000003
    CenterLatitudeRadius = 1821460.0
    UpperLeftCornerX = -1806750.0000463
    UpperLeftCornerY = 2344949.99988459982
    PixelResolution = 184.999999994910013
    Scale = 171.840401050003123
  End_Group
End_Object
Object = Label
  Bytes = 1286
End_Object
End
