17.9999992251
0.0000000000
0.0000000000
-17.9999992251
8511848.6335836351
-1474154.9365408719
