<PAMDataset>
  <SRS>PROJCS[&quot;Mars2000 Equidistant Cylindrical clon180&quot;,GEOGCS[&quot;Mars_2000_Sphere&quot;,DATUM[&quot;Mars_2000_Sphere&quot;,SPHEROID[&quot;Mars_2000_Sphere_IAU_IAG&quot;,3396190.0,0.0]],PRIMEM[&quot;Reference_Meridian&quot;,0.0],UNIT[&quot;Degree&quot;,0.0174532925199433]],PROJECTION[&quot;Equirectangular&quot;],PARAMETER[&quot;False_Easting&quot;,0.0],PARAMETER[&quot;False_Northing&quot;,0.0],PARAMETER[&quot;Central_Meridian&quot;,180.0],PARAMETER[&quot;Standard_Parallel_1&quot;,0.0],UNIT[&quot;Meter&quot;,1.0]]</SRS>
  <GeoTransform> 8.5118001268357038e+006, 1.0000000149011612e+002, 0.0000000000000000e+000,-1.4741000219658017e+006, 0.0000000000000000e+000,-1.0000000149011612e+002</GeoTransform>
  <Metadata domain="xml:ESRI" format="xml">
    <GeodataXform xsi:type="typens:IdentityXform" xmlns:xsi="http://www.w3.org/2001/XMLSchema-instance" xmlns:xs="http://www.w3.org/2001/XMLSchema" xmlns:typens="http://www.esri.com/schemas/ArcGIS/9.2">
      <SpatialReference xsi:type="typens:ProjectedCoordinateSystem">
        <WKT>PROJCS[&quot;Mars2000 Equidistant Cylindrical clon180&quot;,GEOGCS[&quot;GCS_Mars_2000_Sphere&quot;,DATUM[&quot;D_Mars_2000_Sphere&quot;,SPHEROID[&quot;Mars_2000_Sphere_IAU_IAG&quot;,3396190.0,0.0]],PRIMEM[&quot;Reference_Meridian&quot;,0.0],UNIT[&quot;Degree&quot;,0.0174532925199433]],PROJECTION[&quot;Equidistant_Cylindrical&quot;],PARAMETER[&quot;False_Easting&quot;,0.0],PARAMETER[&quot;False_Northing&quot;,0.0],PARAMETER[&quot;Central_Meridian&quot;,180.0],PARAMETER[&quot;Standard_Parallel_1&quot;,0.0],UNIT[&quot;Meter&quot;,1.0]]</WKT>
        <HighPrecision>true</HighPrecision>
      </SpatialReference>
    </GeodataXform>
  </Metadata>
  <PAMRasterBand band="1">
    <Metadata>
      <MDI key="LAYER_TYPE">athematic</MDI>
    </Metadata>
  </PAMRasterBand>
</PAMDataset>
