17.9999992251
0.0000000000
0.0000000000
-17.9999992251
-2612834.8875232041
-177236.9923703372
