100.0000014901
0.0000000000
0.0000000000
-100.0000014901
-2612850.0389344990
-177250.0026412308
