17.9999992251
0.0000000000
0.0000000000
-17.9999992251
8608472.6294241846
-1325384.9429450929
