100.0000014901
0.0000000000
0.0000000000
-100.0000014901
8608450.1282759011
-1325350.0197492540
